BEGIN:VCALENDAR
VERSION:2.0
PRODID:-//Northridge Elementary - ECPv6.2.8.1//NONSGML v1.0//EN
CALSCALE:GREGORIAN
METHOD:PUBLISH
X-WR-CALNAME:Northridge Elementary
X-ORIGINAL-URL:https://northridge.sd61.bc.ca
X-WR-CALDESC:Events for Northridge Elementary
REFRESH-INTERVAL;VALUE=DURATION:PT1H
X-Robots-Tag:noindex
X-PUBLISHED-TTL:PT1H
BEGIN:VTIMEZONE
TZID:America/Vancouver
BEGIN:DAYLIGHT
TZOFFSETFROM:-0800
TZOFFSETTO:-0700
TZNAME:PDT
DTSTART:20250309T100000
END:DAYLIGHT
BEGIN:STANDARD
TZOFFSETFROM:-0700
TZOFFSETTO:-0800
TZNAME:PST
DTSTART:20251102T090000
END:STANDARD
END:VTIMEZONE
BEGIN:VEVENT
DTSTART;TZID=America/Vancouver:20250507T183000
DTEND;TZID=America/Vancouver:20250507T200000
DTSTAMP:20260421T024533
CREATED:20240702T184132Z
LAST-MODIFIED:20240702T184132Z
UID:7511-1746642600-1746648000@northridge.sd61.bc.ca
SUMMARY:PAC Meeting - Everyone Welcome
DESCRIPTION:
URL:https://northridge.sd61.bc.ca/calendar-event/pac-meeting-everyone-welcome-9/
END:VEVENT
BEGIN:VEVENT
DTSTART;VALUE=DATE:20250516
DTEND;VALUE=DATE:20250517
DTSTAMP:20260421T024533
CREATED:20240702T174339Z
LAST-MODIFIED:20240702T174339Z
UID:7439-1747353600-1747439999@northridge.sd61.bc.ca
SUMMARY:Pro D Day - No School
DESCRIPTION:
URL:https://northridge.sd61.bc.ca/calendar-event/pro-d-day-no-school-10/
END:VEVENT
BEGIN:VEVENT
DTSTART;VALUE=DATE:20250519
DTEND;VALUE=DATE:20250520
DTSTAMP:20260421T024533
CREATED:20240702T182104Z
LAST-MODIFIED:20240702T182104Z
UID:7475-1747612800-1747699199@northridge.sd61.bc.ca
SUMMARY:Victoria Day - no school
DESCRIPTION:
URL:https://northridge.sd61.bc.ca/calendar-event/victoria-day-no-school-3/
END:VEVENT
BEGIN:VEVENT
DTSTART;VALUE=DATE:20250526
DTEND;VALUE=DATE:20250530
DTSTAMP:20260421T024533
CREATED:20240702T184216Z
LAST-MODIFIED:20250702T201323Z
UID:7513-1748217600-1748563199@northridge.sd61.bc.ca
SUMMARY:Bike to School Week/Rodeo
DESCRIPTION:
URL:https://northridge.sd61.bc.ca/calendar-event/bike-to-school-week-rodeo/
END:VEVENT
BEGIN:VEVENT
DTSTART;VALUE=DATE:20250530
DTEND;VALUE=DATE:20250531
DTSTAMP:20260421T024533
CREATED:20240702T184240Z
LAST-MODIFIED:20240702T184240Z
UID:7515-1748563200-1748649599@northridge.sd61.bc.ca
SUMMARY:Fun Fair
DESCRIPTION:
URL:https://northridge.sd61.bc.ca/calendar-event/fun-fair/
END:VEVENT
END:VCALENDAR