BEGIN:VCALENDAR
VERSION:2.0
PRODID:-//Northridge Elementary - ECPv6.2.8.1//NONSGML v1.0//EN
CALSCALE:GREGORIAN
METHOD:PUBLISH
X-ORIGINAL-URL:https://northridge.sd61.bc.ca
X-WR-CALDESC:Events for Northridge Elementary
REFRESH-INTERVAL;VALUE=DURATION:PT1H
X-Robots-Tag:noindex
X-PUBLISHED-TTL:PT1H
BEGIN:VTIMEZONE
TZID:America/Vancouver
BEGIN:DAYLIGHT
TZOFFSETFROM:-0800
TZOFFSETTO:-0700
TZNAME:PDT
DTSTART:20250309T100000
END:DAYLIGHT
BEGIN:STANDARD
TZOFFSETFROM:-0700
TZOFFSETTO:-0800
TZNAME:PST
DTSTART:20251102T090000
END:STANDARD
END:VTIMEZONE
BEGIN:VEVENT
DTSTART;TZID=America/Vancouver:20250205T183000
DTEND;TZID=America/Vancouver:20250205T200000
DTSTAMP:20260423T092550
CREATED:20240702T183818Z
LAST-MODIFIED:20240702T183818Z
UID:7499-1738780200-1738785600@northridge.sd61.bc.ca
SUMMARY:PAC Meeting - Everyone Welcome
DESCRIPTION:
URL:https://northridge.sd61.bc.ca/calendar-event/pac-meeting-everyone-welcome-6/
END:VEVENT
BEGIN:VEVENT
DTSTART;VALUE=DATE:20250211
DTEND;VALUE=DATE:20250212
DTSTAMP:20260423T092550
CREATED:20250211T184953Z
LAST-MODIFIED:20250211T184953Z
UID:7613-1739232000-1739318399@northridge.sd61.bc.ca
SUMMARY:Kindy Hearing Screening
DESCRIPTION:
URL:https://northridge.sd61.bc.ca/calendar-event/kindy-hearing-screening/
END:VEVENT
BEGIN:VEVENT
DTSTART;TZID=America/Vancouver:20250211T104500
DTEND;TZID=America/Vancouver:20250211T113000
DTSTAMP:20260423T092550
CREATED:20250211T184610Z
LAST-MODIFIED:20250211T184610Z
UID:7608-1739270700-1739273400@northridge.sd61.bc.ca
SUMMARY:Pink Shirt Day - Assembly
DESCRIPTION:
URL:https://northridge.sd61.bc.ca/calendar-event/pink-shirt-day-assembly/
END:VEVENT
BEGIN:VEVENT
DTSTART;VALUE=DATE:20250212
DTEND;VALUE=DATE:20250213
DTSTAMP:20260423T092550
CREATED:20250203T192936Z
LAST-MODIFIED:20250203T192936Z
UID:7597-1739318400-1739404799@northridge.sd61.bc.ca
SUMMARY:Staff Lunch
DESCRIPTION:
URL:https://northridge.sd61.bc.ca/calendar-event/staff-lunch/
END:VEVENT
BEGIN:VEVENT
DTSTART;VALUE=DATE:20250214
DTEND;VALUE=DATE:20250215
DTSTAMP:20260423T092550
CREATED:20240702T174157Z
LAST-MODIFIED:20240702T174157Z
UID:7437-1739491200-1739577599@northridge.sd61.bc.ca
SUMMARY:Pro D Day - No School
DESCRIPTION:
URL:https://northridge.sd61.bc.ca/calendar-event/pro-d-day-no-school-9/
END:VEVENT
BEGIN:VEVENT
DTSTART;VALUE=DATE:20250217
DTEND;VALUE=DATE:20250218
DTSTAMP:20260423T092550
CREATED:20240702T180854Z
LAST-MODIFIED:20240702T180854Z
UID:7460-1739750400-1739836799@northridge.sd61.bc.ca
SUMMARY:Family Day
DESCRIPTION:
URL:https://northridge.sd61.bc.ca/calendar-event/family-day/
END:VEVENT
BEGIN:VEVENT
DTSTART;VALUE=DATE:20250221
DTEND;VALUE=DATE:20250222
DTSTAMP:20260423T092550
CREATED:20240702T183850Z
LAST-MODIFIED:20240702T183850Z
UID:7501-1740096000-1740182399@northridge.sd61.bc.ca
SUMMARY:Jump Rope for Heart
DESCRIPTION:
URL:https://northridge.sd61.bc.ca/calendar-event/jump-rope-for-heart/
END:VEVENT
BEGIN:VEVENT
DTSTART;VALUE=DATE:20250221
DTEND;VALUE=DATE:20250222
DTSTAMP:20260423T092550
CREATED:20250211T183814Z
LAST-MODIFIED:20250211T183814Z
UID:7604-1740096000-1740182399@northridge.sd61.bc.ca
SUMMARY:Hot Lunch
DESCRIPTION:
URL:https://northridge.sd61.bc.ca/calendar-event/hot-lunch-14/
END:VEVENT
BEGIN:VEVENT
DTSTART;VALUE=DATE:20250225
DTEND;VALUE=DATE:20250226
DTSTAMP:20260423T092550
CREATED:20250211T183949Z
LAST-MODIFIED:20250211T183949Z
UID:7606-1740441600-1740527999@northridge.sd61.bc.ca
SUMMARY:Art Starts Performance
DESCRIPTION:
URL:https://northridge.sd61.bc.ca/calendar-event/art-starts-performance/
END:VEVENT
END:VCALENDAR