BEGIN:VCALENDAR
VERSION:2.0
PRODID:-//Northridge Elementary - ECPv6.2.8.1//NONSGML v1.0//EN
CALSCALE:GREGORIAN
METHOD:PUBLISH
X-WR-CALNAME:Northridge Elementary
X-ORIGINAL-URL:https://northridge.sd61.bc.ca
X-WR-CALDESC:Events for Northridge Elementary
REFRESH-INTERVAL;VALUE=DURATION:PT1H
X-Robots-Tag:noindex
X-PUBLISHED-TTL:PT1H
BEGIN:VTIMEZONE
TZID:America/Vancouver
BEGIN:DAYLIGHT
TZOFFSETFROM:-0800
TZOFFSETTO:-0700
TZNAME:PDT
DTSTART:20240310T100000
END:DAYLIGHT
BEGIN:STANDARD
TZOFFSETFROM:-0700
TZOFFSETTO:-0800
TZNAME:PST
DTSTART:20241103T090000
END:STANDARD
END:VTIMEZONE
BEGIN:VEVENT
DTSTART;TZID=America/Vancouver:20241106T183000
DTEND;TZID=America/Vancouver:20241106T200000
DTSTAMP:20260424T082359
CREATED:20240702T183454Z
LAST-MODIFIED:20240702T183454Z
UID:7489-1730917800-1730923200@northridge.sd61.bc.ca
SUMMARY:PAC Meeting - Everyone Welcome
DESCRIPTION:
URL:https://northridge.sd61.bc.ca/calendar-event/pac-meeting-everyone-welcome-3/
END:VEVENT
BEGIN:VEVENT
DTSTART;VALUE=DATE:20241025
DTEND;VALUE=DATE:20241026
DTSTAMP:20260424T082359
CREATED:20240702T173454Z
LAST-MODIFIED:20240702T173454Z
UID:7432-1729814400-1729900799@northridge.sd61.bc.ca
SUMMARY:Pro D Day - No School
DESCRIPTION:
URL:https://northridge.sd61.bc.ca/calendar-event/pro-d-day-no-school-7/
END:VEVENT
BEGIN:VEVENT
DTSTART;VALUE=DATE:20241024
DTEND;VALUE=DATE:20241025
DTSTAMP:20260424T082359
CREATED:20240702T183322Z
LAST-MODIFIED:20240702T183343Z
UID:7487-1729728000-1729814399@northridge.sd61.bc.ca
SUMMARY:Halloween Dance - 6:00 - 8:00pm
DESCRIPTION:
URL:https://northridge.sd61.bc.ca/calendar-event/halloween-dance-600-800pm-2/
END:VEVENT
BEGIN:VEVENT
DTSTART;VALUE=DATE:20241014
DTEND;VALUE=DATE:20241015
DTSTAMP:20260424T082359
CREATED:20240702T174706Z
LAST-MODIFIED:20240702T174706Z
UID:7449-1728864000-1728950399@northridge.sd61.bc.ca
SUMMARY:Thanksgiving Monday - No School
DESCRIPTION:
URL:https://northridge.sd61.bc.ca/calendar-event/thanksgiving-monday-no-school/
END:VEVENT
BEGIN:VEVENT
DTSTART;VALUE=DATE:20241011
DTEND;VALUE=DATE:20241012
DTSTAMP:20260424T082359
CREATED:20240702T183224Z
LAST-MODIFIED:20240702T183224Z
UID:7485-1728604800-1728691199@northridge.sd61.bc.ca
SUMMARY:Turkey Trot
DESCRIPTION:
URL:https://northridge.sd61.bc.ca/calendar-event/turkey-trot/
END:VEVENT
BEGIN:VEVENT
DTSTART;TZID=America/Vancouver:20241009T115000
DTEND;TZID=America/Vancouver:20241009T170000
DTSTAMP:20260424T082359
CREATED:20240702T174633Z
LAST-MODIFIED:20240702T174633Z
UID:7447-1728474600-1728493200@northridge.sd61.bc.ca
SUMMARY:Parent Teacher Interviews - Early Dismissal 11:50am
DESCRIPTION:
URL:https://northridge.sd61.bc.ca/calendar-event/parent-teacher-interviews-early-dismissal-1150am/
END:VEVENT
BEGIN:VEVENT
DTSTART;VALUE=DATE:20241009
DTEND;VALUE=DATE:20241011
DTSTAMP:20260424T082359
CREATED:20240920T202423Z
LAST-MODIFIED:20240920T202423Z
UID:7561-1728432000-1728604799@northridge.sd61.bc.ca
SUMMARY:Book Fair
DESCRIPTION:
URL:https://northridge.sd61.bc.ca/calendar-event/book-fair/
END:VEVENT
BEGIN:VEVENT
DTSTART;VALUE=DATE:20241004
DTEND;VALUE=DATE:20241005
DTSTAMP:20260424T082359
CREATED:20240702T183159Z
LAST-MODIFIED:20240702T183159Z
UID:7483-1728000000-1728086399@northridge.sd61.bc.ca
SUMMARY:Hot Lunch
DESCRIPTION:
URL:https://northridge.sd61.bc.ca/calendar-event/hot-lunch-13/
END:VEVENT
BEGIN:VEVENT
DTSTART;VALUE=DATE:20241004
DTEND;VALUE=DATE:20241005
DTSTAMP:20260424T082359
CREATED:20240702T174546Z
LAST-MODIFIED:20240702T174546Z
UID:7445-1728000000-1728086399@northridge.sd61.bc.ca
SUMMARY:Photo Day
DESCRIPTION:
URL:https://northridge.sd61.bc.ca/calendar-event/photo-day/
END:VEVENT
BEGIN:VEVENT
DTSTART;TZID=America/Vancouver:20241002T183000
DTEND;TZID=America/Vancouver:20241002T200000
DTSTAMP:20260424T082359
CREATED:20240702T183003Z
LAST-MODIFIED:20240702T183003Z
UID:7481-1727893800-1727899200@northridge.sd61.bc.ca
SUMMARY:PAC Meeting - Everyone Welcome
DESCRIPTION:
URL:https://northridge.sd61.bc.ca/calendar-event/pac-meeting-everyone-welcome-2/
END:VEVENT
BEGIN:VEVENT
DTSTART;VALUE=DATE:20240930
DTEND;VALUE=DATE:20241001
DTSTAMP:20260424T082359
CREATED:20240702T174522Z
LAST-MODIFIED:20240702T174522Z
UID:7443-1727654400-1727740799@northridge.sd61.bc.ca
SUMMARY:National Day of Truth and Reconciliation - No School
DESCRIPTION:
URL:https://northridge.sd61.bc.ca/calendar-event/national-day-of-truth-and-reconciliation-no-school/
END:VEVENT
BEGIN:VEVENT
DTSTART;VALUE=DATE:20240927
DTEND;VALUE=DATE:20240928
DTSTAMP:20260424T082359
CREATED:20240920T202311Z
LAST-MODIFIED:20240920T202311Z
UID:7557-1727395200-1727481599@northridge.sd61.bc.ca
SUMMARY:Orange Shirt Day
DESCRIPTION:
URL:https://northridge.sd61.bc.ca/calendar-event/orange-shirt-day/
END:VEVENT
BEGIN:VEVENT
DTSTART;TZID=America/Vancouver:20240926T130000
DTEND;TZID=America/Vancouver:20240926T140000
DTSTAMP:20260424T082359
CREATED:20240920T202340Z
LAST-MODIFIED:20240920T202340Z
UID:7559-1727355600-1727359200@northridge.sd61.bc.ca
SUMMARY:Terry Fox Run and Assembly
DESCRIPTION:
URL:https://northridge.sd61.bc.ca/calendar-event/terry-fox-run-and-assembly/
END:VEVENT
BEGIN:VEVENT
DTSTART;VALUE=DATE:20240923
DTEND;VALUE=DATE:20240924
DTSTAMP:20260424T082359
CREATED:20240702T173431Z
LAST-MODIFIED:20240702T173431Z
UID:7430-1727049600-1727135999@northridge.sd61.bc.ca
SUMMARY:Pro D Day - No School
DESCRIPTION:
URL:https://northridge.sd61.bc.ca/calendar-event/pro-d-day-no-school-6/
END:VEVENT
BEGIN:VEVENT
DTSTART;TZID=America/Vancouver:20240918T170000
DTEND;TZID=America/Vancouver:20240918T193000
DTSTAMP:20260424T082359
CREATED:20240702T174440Z
LAST-MODIFIED:20240702T174440Z
UID:7441-1726678800-1726687800@northridge.sd61.bc.ca
SUMMARY:Meet the Teacher and Welcome Back BBQ
DESCRIPTION:
URL:https://northridge.sd61.bc.ca/calendar-event/meet-the-teacher-and-welcome-back-bbq/
END:VEVENT
BEGIN:VEVENT
DTSTART;TZID=America/Vancouver:20240911T183000
DTEND;TZID=America/Vancouver:20240911T200000
DTSTAMP:20260424T082359
CREATED:20240702T182921Z
LAST-MODIFIED:20240702T182921Z
UID:7479-1726079400-1726084800@northridge.sd61.bc.ca
SUMMARY:PAC Meeting - Everyone Welcome
DESCRIPTION:
URL:https://northridge.sd61.bc.ca/calendar-event/pac-meeting-everyone-welcome/
END:VEVENT
BEGIN:VEVENT
DTSTART;VALUE=DATE:20240903
DTEND;VALUE=DATE:20240904
DTSTAMP:20260424T082359
CREATED:20240702T173359Z
LAST-MODIFIED:20240702T173359Z
UID:7428-1725321600-1725407999@northridge.sd61.bc.ca
SUMMARY:School Opening Day 9:00 - 11:30am
DESCRIPTION:
URL:https://northridge.sd61.bc.ca/calendar-event/school-opening-day-900-1130am/
END:VEVENT
BEGIN:VEVENT
DTSTART;VALUE=DATE:20240627
DTEND;VALUE=DATE:20240628
DTSTAMP:20260424T082359
CREATED:20230704T192447Z
LAST-MODIFIED:20230704T192447Z
UID:7062-1719446400-1719532799@northridge.sd61.bc.ca
SUMMARY:Last Day of school for students
DESCRIPTION:
URL:https://northridge.sd61.bc.ca/calendar-event/last-day-of-school-for-students/
END:VEVENT
BEGIN:VEVENT
DTSTART;VALUE=DATE:20240614
DTEND;VALUE=DATE:20240615
DTSTAMP:20260424T082359
CREATED:20230707T160456Z
LAST-MODIFIED:20230707T160456Z
UID:7086-1718323200-1718409599@northridge.sd61.bc.ca
SUMMARY:Hot Lunch
DESCRIPTION:
URL:https://northridge.sd61.bc.ca/calendar-event/hot-lunch-12/
END:VEVENT
BEGIN:VEVENT
DTSTART;TZID=America/Vancouver:20240605T130000
DTEND;TZID=America/Vancouver:20240605T140000
DTSTAMP:20260424T082359
CREATED:20240529T220233Z
LAST-MODIFIED:20240529T220233Z
UID:7410-1717592400-1717596000@northridge.sd61.bc.ca
SUMMARY:Spring Arts Showcase and Performance at 1pm
DESCRIPTION:
URL:https://northridge.sd61.bc.ca/calendar-event/spring-arts-showcase-and-performance-at-1pm/
END:VEVENT
BEGIN:VEVENT
DTSTART;VALUE=DATE:20240524
DTEND;VALUE=DATE:20240525
DTSTAMP:20260424T082359
CREATED:20230707T160350Z
LAST-MODIFIED:20230707T161037Z
UID:7084-1716508800-1716595199@northridge.sd61.bc.ca
SUMMARY:Hot Lunch
DESCRIPTION:
URL:https://northridge.sd61.bc.ca/calendar-event/hot-lunch-11/
END:VEVENT
BEGIN:VEVENT
DTSTART;VALUE=DATE:20240520
DTEND;VALUE=DATE:20240521
DTSTAMP:20260424T082359
CREATED:20230704T192350Z
LAST-MODIFIED:20230704T192350Z
UID:7060-1716163200-1716249599@northridge.sd61.bc.ca
SUMMARY:Victoria Day - no school
DESCRIPTION:
URL:https://northridge.sd61.bc.ca/calendar-event/victoria-day-no-school-2/
END:VEVENT
BEGIN:VEVENT
DTSTART;VALUE=DATE:20240517
DTEND;VALUE=DATE:20240518
DTSTAMP:20260424T082359
CREATED:20230704T174110Z
LAST-MODIFIED:20230704T174110Z
UID:6994-1715904000-1715990399@northridge.sd61.bc.ca
SUMMARY:Pro D Day (No School)
DESCRIPTION:
URL:https://northridge.sd61.bc.ca/calendar-event/pro-d-day-no-school-5/
END:VEVENT
BEGIN:VEVENT
DTSTART;VALUE=DATE:20240503
DTEND;VALUE=DATE:20240504
DTSTAMP:20260424T082359
CREATED:20230707T160324Z
LAST-MODIFIED:20230707T160948Z
UID:7082-1714694400-1714780799@northridge.sd61.bc.ca
SUMMARY:Hot Lunch
DESCRIPTION:
URL:https://northridge.sd61.bc.ca/calendar-event/hot-lunch-10/
END:VEVENT
BEGIN:VEVENT
DTSTART;VALUE=DATE:20240425
DTEND;VALUE=DATE:20240426
DTSTAMP:20260424T082359
CREATED:20230704T192206Z
LAST-MODIFIED:20230704T192206Z
UID:7058-1714003200-1714089599@northridge.sd61.bc.ca
SUMMARY:Student Led Conferences - early dismissal (11:50am)
DESCRIPTION:
URL:https://northridge.sd61.bc.ca/calendar-event/student-led-conferences-early-dismissal-1150am/
END:VEVENT
BEGIN:VEVENT
DTSTART;VALUE=DATE:20240412
DTEND;VALUE=DATE:20240413
DTSTAMP:20260424T082359
CREATED:20230707T160259Z
LAST-MODIFIED:20230707T160259Z
UID:7080-1712880000-1712966399@northridge.sd61.bc.ca
SUMMARY:Hot Lunch
DESCRIPTION:
URL:https://northridge.sd61.bc.ca/calendar-event/hot-lunch-9/
END:VEVENT
BEGIN:VEVENT
DTSTART;VALUE=DATE:20240403
DTEND;VALUE=DATE:20240404
DTSTAMP:20260424T082359
CREATED:20230704T192123Z
LAST-MODIFIED:20230704T192123Z
UID:7056-1712102400-1712188799@northridge.sd61.bc.ca
SUMMARY:Schools re-open after Spring Vacation - Full school day
DESCRIPTION:
URL:https://northridge.sd61.bc.ca/calendar-event/schools-re-open-after-spring-vacation-full-school-day/
END:VEVENT
BEGIN:VEVENT
DTSTART;TZID=America/Vancouver:20240402T080000
DTEND;TZID=America/Vancouver:20240402T170000
DTSTAMP:20260424T082359
CREATED:20231103T222758Z
LAST-MODIFIED:20231103T222758Z
UID:7154-1712044800-1712077200@northridge.sd61.bc.ca
SUMMARY:No School -Spring Break
DESCRIPTION:
URL:https://northridge.sd61.bc.ca/calendar-event/no-school-spring-break/
END:VEVENT
BEGIN:VEVENT
DTSTART;VALUE=DATE:20240401
DTEND;VALUE=DATE:20240402
DTSTAMP:20260424T082359
CREATED:20230704T192020Z
LAST-MODIFIED:20230704T192020Z
UID:7054-1711929600-1712015999@northridge.sd61.bc.ca
SUMMARY:Easter Monday - no school
DESCRIPTION:
URL:https://northridge.sd61.bc.ca/calendar-event/easter-monday-no-school/
END:VEVENT
BEGIN:VEVENT
DTSTART;VALUE=DATE:20240329
DTEND;VALUE=DATE:20240330
DTSTAMP:20260424T082359
CREATED:20230704T191946Z
LAST-MODIFIED:20230704T191946Z
UID:7052-1711670400-1711756799@northridge.sd61.bc.ca
SUMMARY:Good Friday - No school
DESCRIPTION:
URL:https://northridge.sd61.bc.ca/calendar-event/good-friday-no-school/
END:VEVENT
END:VCALENDAR