BEGIN:VCALENDAR
VERSION:2.0
PRODID:-//Northridge Elementary - ECPv6.2.8.1//NONSGML v1.0//EN
CALSCALE:GREGORIAN
METHOD:PUBLISH
X-WR-CALNAME:Northridge Elementary
X-ORIGINAL-URL:https://northridge.sd61.bc.ca
X-WR-CALDESC:Events for Northridge Elementary
REFRESH-INTERVAL;VALUE=DURATION:PT1H
X-Robots-Tag:noindex
X-PUBLISHED-TTL:PT1H
BEGIN:VTIMEZONE
TZID:America/Vancouver
BEGIN:DAYLIGHT
TZOFFSETFROM:-0800
TZOFFSETTO:-0700
TZNAME:PDT
DTSTART:20230312T100000
END:DAYLIGHT
BEGIN:STANDARD
TZOFFSETFROM:-0700
TZOFFSETTO:-0800
TZNAME:PST
DTSTART:20231105T090000
END:STANDARD
BEGIN:DAYLIGHT
TZOFFSETFROM:-0800
TZOFFSETTO:-0700
TZNAME:PDT
DTSTART:20240310T100000
END:DAYLIGHT
BEGIN:STANDARD
TZOFFSETFROM:-0700
TZOFFSETTO:-0800
TZNAME:PST
DTSTART:20241103T090000
END:STANDARD
END:VTIMEZONE
BEGIN:VEVENT
DTSTART;VALUE=DATE:20240627
DTEND;VALUE=DATE:20240628
DTSTAMP:20260425T210740
CREATED:20230704T192447Z
LAST-MODIFIED:20230704T192447Z
UID:7062-1719446400-1719532799@northridge.sd61.bc.ca
SUMMARY:Last Day of school for students
DESCRIPTION:
URL:https://northridge.sd61.bc.ca/calendar-event/last-day-of-school-for-students/
END:VEVENT
BEGIN:VEVENT
DTSTART;VALUE=DATE:20240614
DTEND;VALUE=DATE:20240615
DTSTAMP:20260425T210740
CREATED:20230707T160456Z
LAST-MODIFIED:20230707T160456Z
UID:7086-1718323200-1718409599@northridge.sd61.bc.ca
SUMMARY:Hot Lunch
DESCRIPTION:
URL:https://northridge.sd61.bc.ca/calendar-event/hot-lunch-12/
END:VEVENT
BEGIN:VEVENT
DTSTART;TZID=America/Vancouver:20240605T130000
DTEND;TZID=America/Vancouver:20240605T140000
DTSTAMP:20260425T210740
CREATED:20240529T220233Z
LAST-MODIFIED:20240529T220233Z
UID:7410-1717592400-1717596000@northridge.sd61.bc.ca
SUMMARY:Spring Arts Showcase and Performance at 1pm
DESCRIPTION:
URL:https://northridge.sd61.bc.ca/calendar-event/spring-arts-showcase-and-performance-at-1pm/
END:VEVENT
BEGIN:VEVENT
DTSTART;VALUE=DATE:20240524
DTEND;VALUE=DATE:20240525
DTSTAMP:20260425T210740
CREATED:20230707T160350Z
LAST-MODIFIED:20230707T161037Z
UID:7084-1716508800-1716595199@northridge.sd61.bc.ca
SUMMARY:Hot Lunch
DESCRIPTION:
URL:https://northridge.sd61.bc.ca/calendar-event/hot-lunch-11/
END:VEVENT
BEGIN:VEVENT
DTSTART;VALUE=DATE:20240520
DTEND;VALUE=DATE:20240521
DTSTAMP:20260425T210740
CREATED:20230704T192350Z
LAST-MODIFIED:20230704T192350Z
UID:7060-1716163200-1716249599@northridge.sd61.bc.ca
SUMMARY:Victoria Day - no school
DESCRIPTION:
URL:https://northridge.sd61.bc.ca/calendar-event/victoria-day-no-school-2/
END:VEVENT
BEGIN:VEVENT
DTSTART;VALUE=DATE:20240517
DTEND;VALUE=DATE:20240518
DTSTAMP:20260425T210740
CREATED:20230704T174110Z
LAST-MODIFIED:20230704T174110Z
UID:6994-1715904000-1715990399@northridge.sd61.bc.ca
SUMMARY:Pro D Day (No School)
DESCRIPTION:
URL:https://northridge.sd61.bc.ca/calendar-event/pro-d-day-no-school-5/
END:VEVENT
BEGIN:VEVENT
DTSTART;VALUE=DATE:20240503
DTEND;VALUE=DATE:20240504
DTSTAMP:20260425T210740
CREATED:20230707T160324Z
LAST-MODIFIED:20230707T160948Z
UID:7082-1714694400-1714780799@northridge.sd61.bc.ca
SUMMARY:Hot Lunch
DESCRIPTION:
URL:https://northridge.sd61.bc.ca/calendar-event/hot-lunch-10/
END:VEVENT
BEGIN:VEVENT
DTSTART;VALUE=DATE:20240425
DTEND;VALUE=DATE:20240426
DTSTAMP:20260425T210740
CREATED:20230704T192206Z
LAST-MODIFIED:20230704T192206Z
UID:7058-1714003200-1714089599@northridge.sd61.bc.ca
SUMMARY:Student Led Conferences - early dismissal (11:50am)
DESCRIPTION:
URL:https://northridge.sd61.bc.ca/calendar-event/student-led-conferences-early-dismissal-1150am/
END:VEVENT
BEGIN:VEVENT
DTSTART;VALUE=DATE:20240412
DTEND;VALUE=DATE:20240413
DTSTAMP:20260425T210740
CREATED:20230707T160259Z
LAST-MODIFIED:20230707T160259Z
UID:7080-1712880000-1712966399@northridge.sd61.bc.ca
SUMMARY:Hot Lunch
DESCRIPTION:
URL:https://northridge.sd61.bc.ca/calendar-event/hot-lunch-9/
END:VEVENT
BEGIN:VEVENT
DTSTART;VALUE=DATE:20240403
DTEND;VALUE=DATE:20240404
DTSTAMP:20260425T210740
CREATED:20230704T192123Z
LAST-MODIFIED:20230704T192123Z
UID:7056-1712102400-1712188799@northridge.sd61.bc.ca
SUMMARY:Schools re-open after Spring Vacation - Full school day
DESCRIPTION:
URL:https://northridge.sd61.bc.ca/calendar-event/schools-re-open-after-spring-vacation-full-school-day/
END:VEVENT
BEGIN:VEVENT
DTSTART;TZID=America/Vancouver:20240402T080000
DTEND;TZID=America/Vancouver:20240402T170000
DTSTAMP:20260425T210740
CREATED:20231103T222758Z
LAST-MODIFIED:20231103T222758Z
UID:7154-1712044800-1712077200@northridge.sd61.bc.ca
SUMMARY:No School -Spring Break
DESCRIPTION:
URL:https://northridge.sd61.bc.ca/calendar-event/no-school-spring-break/
END:VEVENT
BEGIN:VEVENT
DTSTART;VALUE=DATE:20240401
DTEND;VALUE=DATE:20240402
DTSTAMP:20260425T210740
CREATED:20230704T192020Z
LAST-MODIFIED:20230704T192020Z
UID:7054-1711929600-1712015999@northridge.sd61.bc.ca
SUMMARY:Easter Monday - no school
DESCRIPTION:
URL:https://northridge.sd61.bc.ca/calendar-event/easter-monday-no-school/
END:VEVENT
BEGIN:VEVENT
DTSTART;VALUE=DATE:20240329
DTEND;VALUE=DATE:20240330
DTSTAMP:20260425T210740
CREATED:20230704T191946Z
LAST-MODIFIED:20230704T191946Z
UID:7052-1711670400-1711756799@northridge.sd61.bc.ca
SUMMARY:Good Friday - No school
DESCRIPTION:
URL:https://northridge.sd61.bc.ca/calendar-event/good-friday-no-school/
END:VEVENT
BEGIN:VEVENT
DTSTART;TZID=America/Vancouver:20240318T080000
DTEND;TZID=America/Vancouver:20240329T170000
DTSTAMP:20260425T210740
CREATED:20230704T191856Z
LAST-MODIFIED:20230704T191856Z
UID:7050-1710748800-1711731600@northridge.sd61.bc.ca
SUMMARY:Spring Vacation - no school
DESCRIPTION:
URL:https://northridge.sd61.bc.ca/calendar-event/spring-vacation-no-school/
END:VEVENT
BEGIN:VEVENT
DTSTART;VALUE=DATE:20240315
DTEND;VALUE=DATE:20240316
DTSTAMP:20260425T210740
CREATED:20230707T160217Z
LAST-MODIFIED:20230707T160217Z
UID:7078-1710460800-1710547199@northridge.sd61.bc.ca
SUMMARY:Hot Lunch
DESCRIPTION:
URL:https://northridge.sd61.bc.ca/calendar-event/hot-lunch-8/
END:VEVENT
BEGIN:VEVENT
DTSTART;VALUE=DATE:20240315
DTEND;VALUE=DATE:20240316
DTSTAMP:20260425T210740
CREATED:20230704T191543Z
LAST-MODIFIED:20230704T191543Z
UID:7048-1710460800-1710547199@northridge.sd61.bc.ca
SUMMARY:Last Day of class before Spring Vacation
DESCRIPTION:
URL:https://northridge.sd61.bc.ca/calendar-event/last-day-of-class-before-spring-vacation/
END:VEVENT
BEGIN:VEVENT
DTSTART;VALUE=DATE:20240301
DTEND;VALUE=DATE:20240302
DTSTAMP:20260425T210740
CREATED:20230707T160152Z
LAST-MODIFIED:20230707T160152Z
UID:7076-1709251200-1709337599@northridge.sd61.bc.ca
SUMMARY:Hot Lunch
DESCRIPTION:
URL:https://northridge.sd61.bc.ca/calendar-event/hot-lunch-7/
END:VEVENT
BEGIN:VEVENT
DTSTART;VALUE=DATE:20240219
DTEND;VALUE=DATE:20240220
DTSTAMP:20260425T210740
CREATED:20230704T191503Z
LAST-MODIFIED:20230704T191503Z
UID:7046-1708300800-1708387199@northridge.sd61.bc.ca
SUMMARY:Family Day - no school
DESCRIPTION:
URL:https://northridge.sd61.bc.ca/calendar-event/family-day-no-school/
END:VEVENT
BEGIN:VEVENT
DTSTART;VALUE=DATE:20240216
DTEND;VALUE=DATE:20240217
DTSTAMP:20260425T210740
CREATED:20230704T174026Z
LAST-MODIFIED:20230704T174026Z
UID:6992-1708041600-1708127999@northridge.sd61.bc.ca
SUMMARY:Pro D Day (No School)
DESCRIPTION:
URL:https://northridge.sd61.bc.ca/calendar-event/pro-d-day-no-school-4/
END:VEVENT
BEGIN:VEVENT
DTSTART;VALUE=DATE:20240209
DTEND;VALUE=DATE:20240210
DTSTAMP:20260425T210740
CREATED:20230707T160126Z
LAST-MODIFIED:20230707T160126Z
UID:7074-1707436800-1707523199@northridge.sd61.bc.ca
SUMMARY:Hot Lunch
DESCRIPTION:
URL:https://northridge.sd61.bc.ca/calendar-event/hot-lunch-6/
END:VEVENT
BEGIN:VEVENT
DTSTART;VALUE=DATE:20240126
DTEND;VALUE=DATE:20240127
DTSTAMP:20260425T210740
CREATED:20230704T173914Z
LAST-MODIFIED:20230704T173914Z
UID:6990-1706227200-1706313599@northridge.sd61.bc.ca
SUMMARY:Pro D Day ( No School)
DESCRIPTION:
URL:https://northridge.sd61.bc.ca/calendar-event/pro-d-day-no-school-3/
END:VEVENT
BEGIN:VEVENT
DTSTART;VALUE=DATE:20240119
DTEND;VALUE=DATE:20240120
DTSTAMP:20260425T210740
CREATED:20230707T160104Z
LAST-MODIFIED:20230707T160104Z
UID:7072-1705622400-1705708799@northridge.sd61.bc.ca
SUMMARY:Hot Lunch
DESCRIPTION:
URL:https://northridge.sd61.bc.ca/calendar-event/hot-lunch-5/
END:VEVENT
BEGIN:VEVENT
DTSTART;VALUE=DATE:20240108
DTEND;VALUE=DATE:20240109
DTSTAMP:20260425T210740
CREATED:20230704T191425Z
LAST-MODIFIED:20230704T191425Z
UID:7044-1704672000-1704758399@northridge.sd61.bc.ca
SUMMARY:Schools re-open after Winter Vacation - full school day
DESCRIPTION:
URL:https://northridge.sd61.bc.ca/calendar-event/schools-re-open-after-winter-vacation-full-school-day/
END:VEVENT
BEGIN:VEVENT
DTSTART;VALUE=DATE:20231225
DTEND;VALUE=DATE:20240106
DTSTAMP:20260425T210740
CREATED:20230704T191335Z
LAST-MODIFIED:20230704T191335Z
UID:7042-1703462400-1704499199@northridge.sd61.bc.ca
SUMMARY:Winter Vacation - No School
DESCRIPTION:
URL:https://northridge.sd61.bc.ca/calendar-event/winter-vacation-no-school/
END:VEVENT
BEGIN:VEVENT
DTSTART;VALUE=DATE:20231222
DTEND;VALUE=DATE:20231223
DTSTAMP:20260425T210740
CREATED:20230704T191242Z
LAST-MODIFIED:20230704T191242Z
UID:7040-1703203200-1703289599@northridge.sd61.bc.ca
SUMMARY:Last Day before Winter Vacation
DESCRIPTION:
URL:https://northridge.sd61.bc.ca/calendar-event/last-day-before-winter-vacation/
END:VEVENT
BEGIN:VEVENT
DTSTART;TZID=America/Vancouver:20231213T130000
DTEND;TZID=America/Vancouver:20231213T170000
DTSTAMP:20260425T210740
CREATED:20231207T235106Z
LAST-MODIFIED:20231207T235106Z
UID:7213-1702472400-1702486800@northridge.sd61.bc.ca
SUMMARY:Winter Concert
DESCRIPTION:
URL:https://northridge.sd61.bc.ca/calendar-event/winter-concert/
END:VEVENT
BEGIN:VEVENT
DTSTART;VALUE=DATE:20231208
DTEND;VALUE=DATE:20231209
DTSTAMP:20260425T210740
CREATED:20230707T160038Z
LAST-MODIFIED:20230707T160038Z
UID:7070-1701993600-1702079999@northridge.sd61.bc.ca
SUMMARY:Hot Lunch
DESCRIPTION:
URL:https://northridge.sd61.bc.ca/calendar-event/hot-lunch-4/
END:VEVENT
BEGIN:VEVENT
DTSTART;VALUE=DATE:20231120
DTEND;VALUE=DATE:20231121
DTSTAMP:20260425T210740
CREATED:20230704T173837Z
LAST-MODIFIED:20230704T173837Z
UID:6988-1700438400-1700524799@northridge.sd61.bc.ca
SUMMARY:Pro D Day (No School)
DESCRIPTION:
URL:https://northridge.sd61.bc.ca/calendar-event/pro-d-day-no-school-2/
END:VEVENT
BEGIN:VEVENT
DTSTART;VALUE=DATE:20231117
DTEND;VALUE=DATE:20231118
DTSTAMP:20260425T210740
CREATED:20231011T172020Z
LAST-MODIFIED:20231011T172020Z
UID:7130-1700179200-1700265599@northridge.sd61.bc.ca
SUMMARY:Photo Re-take Day
DESCRIPTION:
URL:https://northridge.sd61.bc.ca/calendar-event/photo-re-take-day/
END:VEVENT
BEGIN:VEVENT
DTSTART;VALUE=DATE:20231117
DTEND;VALUE=DATE:20231118
DTSTAMP:20260425T210740
CREATED:20230707T160009Z
LAST-MODIFIED:20230707T160009Z
UID:7068-1700179200-1700265599@northridge.sd61.bc.ca
SUMMARY:Hot Lunch
DESCRIPTION:
URL:https://northridge.sd61.bc.ca/calendar-event/hot-lunch-3/
END:VEVENT
END:VCALENDAR